BEGIN:VCALENDAR
VERSION:2.0
PRODID:concerti//https://www.concerti.de
CALSCALE:GREGORIAN
BEGIN:VTIMEZONE
TZID:Europe/Berlin
X-LIC-LOCATION:Europe/Berlin
BEGIN:DAYLIGHT
TZOFFSETFROM:+0100
TZOFFSETTO:+0200
TZNAME:CEST
DTSTART:19700329T020000
RRULE:FREQ=YEARLY;BYMONTH=3;BYDAY=-1SU
END:DAYLIGHT
BEGIN:STANDARD
TZOFFSETFROM:+0200
TZOFFSETTO:+0100
TZNAME:CET
DTSTART:19701025T030000
RRULE:FREQ=YEARLY;BYMONTH=10;BYDAY=-1SU
END:STANDARD
END:VTIMEZONE
BEGIN:VEVENT
UID:44b61d8569316d632f9da9ccf6ebe964
SUMMARY:Verdi: Il trovatore
URL:https://www.concerti.de/termine/verdi-il-trovatore-staatsoper-hannover-726443/
DTSTART;TZID=Europe/Berlin:20260613T193000
DTEND;TZID=Europe/Berlin:20260613T213000
DESCRIPTION:Interpreten: Grga Peroš (Il Conta di Luna)\, Monika Walerowicz (Azucena)\, Valda Wilson (Leonora)\, Shavleg Armasi (Ferrando)\, Masaru Kumakura (Leitung)\, Wolfgang Nägele (Regie) \nhttps://www.concerti.de/termine/verdi-il-trovatore-staatsoper-hannover-726443/
LOCATION:Staatsoper Hannover\, Opernplatz 1\, 30159 Hannover
END:VEVENT
END:VCALENDAR