BEGIN:VCALENDAR
VERSION:2.0
PRODID:concerti//https://www.concerti.de
CALSCALE:GREGORIAN
BEGIN:VTIMEZONE
TZID:Europe/Berlin
X-LIC-LOCATION:Europe/Berlin
BEGIN:DAYLIGHT
TZOFFSETFROM:+0100
TZOFFSETTO:+0200
TZNAME:CEST
DTSTART:19700329T020000
RRULE:FREQ=YEARLY;BYMONTH=3;BYDAY=-1SU
END:DAYLIGHT
BEGIN:STANDARD
TZOFFSETFROM:+0200
TZOFFSETTO:+0100
TZNAME:CET
DTSTART:19701025T030000
RRULE:FREQ=YEARLY;BYMONTH=10;BYDAY=-1SU
END:STANDARD
END:VTIMEZONE
BEGIN:VEVENT
UID:a5d4c98bb712986d3286d53c1cc371ea
SUMMARY:Benjamin Baker (Violine), Nordwestdeutsche Philharmonie, Jonathan Bloxham (Leitung) - Klassik zu Pfingsten
URL:https://www.concerti.de/termine/benjamin-baker-violine-nordwestdeutsche-philharmonie-jonathan-bloxham-leitung-konzerthalle-bad-salzuflen-726818/
DTSTART;TZID=Europe/Berlin:20260525T193000
DTEND;TZID=Europe/Berlin:20260525T213000
DESCRIPTION:Interpreten: Benjamin Baker (Violine)\, Nordwestdeutsche Philharmonie\, Jonathan Bloxham (Leitung) \nProgramm: Prokofjew: Violinkonzert Nr. 2 g-Moll op. 63 & Träume op. 6\, Mozart: Sinfonie Nr. 41 C-Dur KV 551 „Jupiter“ \nhttps://www.concerti.de/termine/benjamin-baker-violine-nordwestdeutsche-philharmonie-jonathan-bloxham-leitung-konzerthalle-bad-salzuflen-726818/
LOCATION:Konzerthalle Bad Salzuflen\, Parkstraße 20\, 32105 Bad Salzuflen
END:VEVENT
END:VCALENDAR