BEGIN:VCALENDAR
VERSION:2.0
PRODID:concerti//https://www.concerti.de
CALSCALE:GREGORIAN
BEGIN:VTIMEZONE
TZID:Europe/Berlin
X-LIC-LOCATION:Europe/Berlin
BEGIN:DAYLIGHT
TZOFFSETFROM:+0100
TZOFFSETTO:+0200
TZNAME:CEST
DTSTART:19700329T020000
RRULE:FREQ=YEARLY;BYMONTH=3;BYDAY=-1SU
END:DAYLIGHT
BEGIN:STANDARD
TZOFFSETFROM:+0200
TZOFFSETTO:+0100
TZNAME:CET
DTSTART:19701025T030000
RRULE:FREQ=YEARLY;BYMONTH=10;BYDAY=-1SU
END:STANDARD
END:VTIMEZONE
BEGIN:VEVENT
UID:f5ed2c6c8393f80cbc0d3b5997c7d7b1
SUMMARY:Roman Borisov (Klavier), Thomas Hammes (Trompete), SWR Symphonieorchester, Bar Avni (Leitung), Tabea Dupree (Moderation)
URL:https://www.concerti.de/termine/roman-borisov-klavier-thomas-hammes-trompete-swr-symphonieorchester-bar-avni-leitung-tabea-dupree-moderation-liederhalle-stuttgart-727546/
DTSTART;TZID=Europe/Berlin:20260429T130000
DTEND;TZID=Europe/Berlin:20260429T150000
DESCRIPTION:Interpreten: Roman Borisov (Klavier)\, Thomas Hammes (Trompete)\, SWR Symphonieorchester\, Bar Avni (Leitung)\, Tabea Dupree (Moderation) \nProgramm: Schostakowitsch: Klavierkonzert Nr. 1 c-Moll op. 35\, Dvořák: Das goldene Spinnrad op. 109 \nhttps://www.concerti.de/termine/roman-borisov-klavier-thomas-hammes-trompete-swr-symphonieorchester-bar-avni-leitung-tabea-dupree-moderation-liederhalle-stuttgart-727546/
LOCATION:Liederhalle\, Berliner Platz 1-3\, 70174 Stuttgart
END:VEVENT
END:VCALENDAR