BEGIN:VCALENDAR
VERSION:2.0
PRODID:concerti//https://www.concerti.de
CALSCALE:GREGORIAN
BEGIN:VTIMEZONE
TZID:Europe/Berlin
X-LIC-LOCATION:Europe/Berlin
BEGIN:DAYLIGHT
TZOFFSETFROM:+0100
TZOFFSETTO:+0200
TZNAME:CEST
DTSTART:19700329T020000
RRULE:FREQ=YEARLY;BYMONTH=3;BYDAY=-1SU
END:DAYLIGHT
BEGIN:STANDARD
TZOFFSETFROM:+0200
TZOFFSETTO:+0100
TZNAME:CET
DTSTART:19701025T030000
RRULE:FREQ=YEARLY;BYMONTH=10;BYDAY=-1SU
END:STANDARD
END:VTIMEZONE
BEGIN:VEVENT
UID:d12b6a35fb9ed405fa4243303d93aad8
SUMMARY:SWR Symphonieorchester, Ustina Dubitsky (Leitung), Tabea Dupree (Moderation)
URL:https://www.concerti.de/termine/swr-symphonieorchester-ustina-dubitsky-leitung-tabea-dupree-moderation-liederhalle-stuttgart-727587/
DTSTART;TZID=Europe/Berlin:20260625T130000
DTEND;TZID=Europe/Berlin:20260625T150000
DESCRIPTION:Interpreten: SWR Symphonieorchester\, Ustina Dubitsky (Leitung)\, Tabea Dupree (Moderation) \nProgramm: Smetana: Die Moldau\, Britten: Four Sea Interludes\, Bloch: Poems of the Sea \nhttps://www.concerti.de/termine/swr-symphonieorchester-ustina-dubitsky-leitung-tabea-dupree-moderation-liederhalle-stuttgart-727587/
LOCATION:Liederhalle\, Berliner Platz 1-3\, 70174 Stuttgart
END:VEVENT
END:VCALENDAR