BEGIN:VCALENDAR
VERSION:2.0
PRODID:concerti//https://www.concerti.de
CALSCALE:GREGORIAN
BEGIN:VTIMEZONE
TZID:Europe/Berlin
X-LIC-LOCATION:Europe/Berlin
BEGIN:DAYLIGHT
TZOFFSETFROM:+0100
TZOFFSETTO:+0200
TZNAME:CEST
DTSTART:19700329T020000
RRULE:FREQ=YEARLY;BYMONTH=3;BYDAY=-1SU
END:DAYLIGHT
BEGIN:STANDARD
TZOFFSETFROM:+0200
TZOFFSETTO:+0100
TZNAME:CET
DTSTART:19701025T030000
RRULE:FREQ=YEARLY;BYMONTH=10;BYDAY=-1SU
END:STANDARD
END:VTIMEZONE
BEGIN:VEVENT
UID:6bf5bcece54f08b6f8d23b5e81541234
SUMMARY:Janáček: Katja Kabanowa
URL:https://www.concerti.de/termine/janacek-katja-kabanowa-landestheater-linz-729024/
DTSTART;TZID=Europe/Berlin:20260426T180000
DTEND;TZID=Europe/Berlin:20260426T200000
DESCRIPTION:Interpreten: Markus Poschner (Leitung)\, Peter Konwitschny (Regie) \nhttps://www.concerti.de/termine/janacek-katja-kabanowa-landestheater-linz-729024/
LOCATION:Landestheater Linz Musiktheater\, Am Volksgarten 1\, 4020 Linz
END:VEVENT
END:VCALENDAR