BEGIN:VCALENDAR
VERSION:2.0
PRODID:concerti//https://www.concerti.de
CALSCALE:GREGORIAN
BEGIN:VTIMEZONE
TZID:Europe/Berlin
X-LIC-LOCATION:Europe/Berlin
BEGIN:DAYLIGHT
TZOFFSETFROM:+0100
TZOFFSETTO:+0200
TZNAME:CEST
DTSTART:19700329T020000
RRULE:FREQ=YEARLY;BYMONTH=3;BYDAY=-1SU
END:DAYLIGHT
BEGIN:STANDARD
TZOFFSETFROM:+0200
TZOFFSETTO:+0100
TZNAME:CET
DTSTART:19701025T030000
RRULE:FREQ=YEARLY;BYMONTH=10;BYDAY=-1SU
END:STANDARD
END:VTIMEZONE
BEGIN:VEVENT
UID:cb9965f4bd3e84a714419c5b82b0e8ee
SUMMARY:Rolando Villazón (Tenor), Lauten Compagney Berlin, Wolfgang Katschner (Leitung) - Viaggio dell’anima
URL:https://www.concerti.de/termine/rolando-villazon-tenor-lauten-compagney-berlin-wolfgang-katschner-leitung-landestheater-linz-729027/
DTSTART;TZID=Europe/Berlin:20260501T193000
DTEND;TZID=Europe/Berlin:20260501T213000
DESCRIPTION:Interpreten: Rolando Villazón (Tenor)\, Lauten Compagney Berlin\, Wolfgang Katschner (Leitung) \nhttps://www.concerti.de/termine/rolando-villazon-tenor-lauten-compagney-berlin-wolfgang-katschner-leitung-landestheater-linz-729027/
LOCATION:Landestheater Linz Musiktheater\, Am Volksgarten 1\, 4020 Linz
END:VEVENT
END:VCALENDAR