BEGIN:VCALENDAR
VERSION:2.0
PRODID:concerti//https://www.concerti.de
CALSCALE:GREGORIAN
BEGIN:VTIMEZONE
TZID:Europe/Berlin
X-LIC-LOCATION:Europe/Berlin
BEGIN:DAYLIGHT
TZOFFSETFROM:+0100
TZOFFSETTO:+0200
TZNAME:CEST
DTSTART:19700329T020000
RRULE:FREQ=YEARLY;BYMONTH=3;BYDAY=-1SU
END:DAYLIGHT
BEGIN:STANDARD
TZOFFSETFROM:+0200
TZOFFSETTO:+0100
TZNAME:CET
DTSTART:19701025T030000
RRULE:FREQ=YEARLY;BYMONTH=10;BYDAY=-1SU
END:STANDARD
END:VTIMEZONE
BEGIN:VEVENT
UID:7a52077b7a4137e5cc40533da54ceaa4
SUMMARY:Donizetti: Don Pasquale
URL:https://www.concerti.de/termine/donizetti-don-pasquale-landestheater-linz-729056/
DTSTART;TZID=Europe/Berlin:20260605T193000
DTEND;TZID=Europe/Berlin:20260605T213000
DESCRIPTION:Interpreten: Marc Reibel (Leitung)\, Matthias Rippert (Regie) \nhttps://www.concerti.de/termine/donizetti-don-pasquale-landestheater-linz-729056/
LOCATION:Landestheater Linz Musiktheater\, Am Volksgarten 1\, 4020 Linz
END:VEVENT
END:VCALENDAR