BEGIN:VCALENDAR
VERSION:2.0
PRODID:concerti//https://www.concerti.de
CALSCALE:GREGORIAN
BEGIN:VTIMEZONE
TZID:Europe/Berlin
X-LIC-LOCATION:Europe/Berlin
BEGIN:DAYLIGHT
TZOFFSETFROM:+0100
TZOFFSETTO:+0200
TZNAME:CEST
DTSTART:19700329T020000
RRULE:FREQ=YEARLY;BYMONTH=3;BYDAY=-1SU
END:DAYLIGHT
BEGIN:STANDARD
TZOFFSETFROM:+0200
TZOFFSETTO:+0100
TZNAME:CET
DTSTART:19701025T030000
RRULE:FREQ=YEARLY;BYMONTH=10;BYDAY=-1SU
END:STANDARD
END:VTIMEZONE
BEGIN:VEVENT
UID:2ade7b726cf5a15252bcade3a31e314e
SUMMARY:Puccini: Turandot
URL:https://www.concerti.de/termine/puccini-turandot-landestheater-linz-728933/
DTSTART;TZID=Europe/Berlin:20260613T193000
DTEND;TZID=Europe/Berlin:20260613T213000
DESCRIPTION:Interpreten: Enrico Calesso (Leitung)\, Jasmina Hadžiahmetović (Regie) \nhttps://www.concerti.de/termine/puccini-turandot-landestheater-linz-728933/
LOCATION:Landestheater Linz Musiktheater\, Am Volksgarten 1\, 4020 Linz
END:VEVENT
END:VCALENDAR