BEGIN:VCALENDAR
VERSION:2.0
PRODID:concerti//https://www.concerti.de
CALSCALE:GREGORIAN
BEGIN:VTIMEZONE
TZID:Europe/Berlin
X-LIC-LOCATION:Europe/Berlin
BEGIN:DAYLIGHT
TZOFFSETFROM:+0100
TZOFFSETTO:+0200
TZNAME:CEST
DTSTART:19700329T020000
RRULE:FREQ=YEARLY;BYMONTH=3;BYDAY=-1SU
END:DAYLIGHT
BEGIN:STANDARD
TZOFFSETFROM:+0200
TZOFFSETTO:+0100
TZNAME:CET
DTSTART:19701025T030000
RRULE:FREQ=YEARLY;BYMONTH=10;BYDAY=-1SU
END:STANDARD
END:VTIMEZONE
BEGIN:VEVENT
UID:47a94c9d1fa3e131aad580f9c5250729
SUMMARY:Elena La-Deur (Flöte), Noel Shutina (Gitarre)
URL:https://www.concerti.de/termine/elena-la-deur-floete-noel-shutina-gitarre-haus-der-industrie-bischofsmuehle-730722/
DTSTART;TZID=Europe/Berlin:20260510T110000
DTEND;TZID=Europe/Berlin:20260510T130000
DESCRIPTION:Interpreten: Elena La-Deur (Flöte)\, Noel Shutina (Gitarre) \nProgramm: Falla: Asturiana\, Johanson: Painted Music\, Golijov: Fish Tale\, Ibert: Entr’acte\, Bartók: Rumänische Volkstänze\, Ravel: Pìece en forme de Habanera\, Piazzolla: Histoire du Tango \nhttps://www.concerti.de/termine/elena-la-deur-floete-noel-shutina-gitarre-haus-der-industrie-bischofsmuehle-730722/
LOCATION:Haus der Industrie - Bischofsmühle\, Dammstraße 32\, 31134 Hildesheim
END:VEVENT
END:VCALENDAR