BEGIN:VCALENDAR
VERSION:2.0
PRODID:concerti//https://www.concerti.de
CALSCALE:GREGORIAN
BEGIN:VTIMEZONE
TZID:Europe/Berlin
X-LIC-LOCATION:Europe/Berlin
BEGIN:DAYLIGHT
TZOFFSETFROM:+0100
TZOFFSETTO:+0200
TZNAME:CEST
DTSTART:19700329T020000
RRULE:FREQ=YEARLY;BYMONTH=3;BYDAY=-1SU
END:DAYLIGHT
BEGIN:STANDARD
TZOFFSETFROM:+0200
TZOFFSETTO:+0100
TZNAME:CET
DTSTART:19701025T030000
RRULE:FREQ=YEARLY;BYMONTH=10;BYDAY=-1SU
END:STANDARD
END:VTIMEZONE
BEGIN:VEVENT
UID:07bab3ccb32055eb92e71337a279fb1d
SUMMARY:Brown: Ver misst! Was geschah mit Agatha Christie?
URL:https://www.concerti.de/termine/brown-ver-misst-was-geschah-mit-agatha-christie-730495/
DTSTART;TZID=Europe/Berlin:20260604T071200
DTEND;TZID=Europe/Berlin:20260604T091200
DESCRIPTION:Interpreten: Marion Wulf (Agatha Christie)\, Daniel Wernecke (Archibald Christie)\, Annemarie Purkert (Nancy Neale)\, Jack Lukas (John)\, Aléxandros Emmanuil Velonis (Leitung)\, Jana Lindner (Regie) \nhttps://www.concerti.de/termine/brown-ver-misst-was-geschah-mit-agatha-christie-730495/
LOCATION:Studiobühne thim\, Hildesheim
END:VEVENT
END:VCALENDAR