BEGIN:VCALENDAR
VERSION:2.0
PRODID:concerti//https://www.concerti.de
CALSCALE:GREGORIAN
BEGIN:VTIMEZONE
TZID:Europe/Berlin
X-LIC-LOCATION:Europe/Berlin
BEGIN:DAYLIGHT
TZOFFSETFROM:+0100
TZOFFSETTO:+0200
TZNAME:CEST
DTSTART:19700329T020000
RRULE:FREQ=YEARLY;BYMONTH=3;BYDAY=-1SU
END:DAYLIGHT
BEGIN:STANDARD
TZOFFSETFROM:+0200
TZOFFSETTO:+0100
TZNAME:CET
DTSTART:19701025T030000
RRULE:FREQ=YEARLY;BYMONTH=10;BYDAY=-1SU
END:STANDARD
END:VTIMEZONE
BEGIN:VEVENT
UID:5f8ab201f554158180b9d84c249b8463
SUMMARY:Andreas Buschatz (Violine), Gewandhausorchester, Petr Popelka (Leitung)
URL:https://www.concerti.de/termine/andreas-buschatz-violine-gewandhausorchester-petr-popelka-leitung-gewandhaus-leipzig-731621/
DTSTART;TZID=Europe/Berlin:20260430T193000
DTEND;TZID=Europe/Berlin:20260430T213000
DESCRIPTION:Interpreten: Andreas Buschatz (Violine)\, Gewandhausorchester\, Petr Popelka (Leitung)\, Josef Špaček (Violine)\, Gewandhausorchester\, Petr Popelka (Leitung) \nProgramm: Bartók: Violinkonzert Nr. 2\, Debussy: Jeux\, Ravel: La Valse \nhttps://www.concerti.de/termine/andreas-buschatz-violine-gewandhausorchester-petr-popelka-leitung-gewandhaus-leipzig-731621/
LOCATION:Gewandhaus Leipzig\, Augustusplatz 8\, 04109 Leipzig
END:VEVENT
END:VCALENDAR