BEGIN:VCALENDAR
VERSION:2.0
PRODID:concerti//https://www.concerti.de
CALSCALE:GREGORIAN
BEGIN:VTIMEZONE
TZID:Europe/Berlin
X-LIC-LOCATION:Europe/Berlin
BEGIN:DAYLIGHT
TZOFFSETFROM:+0100
TZOFFSETTO:+0200
TZNAME:CEST
DTSTART:19700329T020000
RRULE:FREQ=YEARLY;BYMONTH=3;BYDAY=-1SU
END:DAYLIGHT
BEGIN:STANDARD
TZOFFSETFROM:+0200
TZOFFSETTO:+0100
TZNAME:CET
DTSTART:19701025T030000
RRULE:FREQ=YEARLY;BYMONTH=10;BYDAY=-1SU
END:STANDARD
END:VTIMEZONE
BEGIN:VEVENT
UID:182369d9d1f53d1f2eadababf0c1583a
SUMMARY:Michael Schönheit (Orgel), Gewandhauschor, Gregor Meyer (Leitung)
URL:https://www.concerti.de/termine/michael-schoenheit-orgel-gewandhauschor-gregor-meyer-leitung-gewandhaus-leipzig-731660/
DTSTART;TZID=Europe/Berlin:20260524T193000
DTEND;TZID=Europe/Berlin:20260524T213000
DESCRIPTION:Es ist einer der eindringlichsten Ohrwürmer der Popmusik-Geschichte: „By the Rivers of Babylon“ von Boney M. Diese deutsche Disco-Formation aus den 1970er-Jahren bediente sich ihrerseits beim Original der jamaikanischen Reggae-Gruppe The Melodians. Ein Pop-Event wird der Abend im Gewandhaus mit dem Gewandhauschor unter der Leitung von Gregor Meyer zwar nicht\, aber er geht dem Ursprung des Textes aus dem Alten Testament nach und stellt den Song in den Dialog mit anderen Musikwerken\, die den Bibel-Psalm 137 in Töne fassen. Denn in diesem Klagelied des jüdischen Volkes im babylonischen Exil geht es um die Sehnsucht nach Heimat. Gewandhausorganist Michael Schönheit hatte [&hellip\;] \nInterpreten: Michael Schönheit (Orgel)\, Gewandhauschor\, Gregor Meyer (Leitung) \nProgramm: Werke von Reincken\, J. S. Bach\, Liszt\, Pärt u. a. \nhttps://www.concerti.de/termine/michael-schoenheit-orgel-gewandhauschor-gregor-meyer-leitung-gewandhaus-leipzig-731660/
LOCATION:Gewandhaus Leipzig\, Augustusplatz 8\, 04109 Leipzig
END:VEVENT
END:VCALENDAR