BEGIN:VCALENDAR
VERSION:2.0
PRODID:concerti//https://www.concerti.de
CALSCALE:GREGORIAN
BEGIN:VTIMEZONE
TZID:Europe/Berlin
X-LIC-LOCATION:Europe/Berlin
BEGIN:DAYLIGHT
TZOFFSETFROM:+0100
TZOFFSETTO:+0200
TZNAME:CEST
DTSTART:19700329T020000
RRULE:FREQ=YEARLY;BYMONTH=3;BYDAY=-1SU
END:DAYLIGHT
BEGIN:STANDARD
TZOFFSETFROM:+0200
TZOFFSETTO:+0100
TZNAME:CET
DTSTART:19701025T030000
RRULE:FREQ=YEARLY;BYMONTH=10;BYDAY=-1SU
END:STANDARD
END:VTIMEZONE
BEGIN:VEVENT
UID:907fef898d13ede6ea694199ed6a6620
SUMMARY:Mahan Esfahani (Cembalo) - Bachfest Leipzig
URL:https://www.concerti.de/termine/mahan-esfahani-cembalo-neues-bachisches-collegium-musicum-reinhard-goebel-leitung-731693/
DTSTART;TZID=Europe/Berlin:20260614T130000
DTEND;TZID=Europe/Berlin:20260614T150000
DESCRIPTION:Interpreten: Mahan Esfahani (Cembalo)\, Mahan Esfahani (Cembalo)\, Neues Bachisches Collegium Musicum\, Reinhard Goebel (Leitung) \nProgramm: Scheibe: Sinfonie B-Dur\, Müthel: Concerto Es-Dur\, Krebs: Concerto h-Moll\, Goldberg: Konzert d-Moll \nhttps://www.concerti.de/termine/mahan-esfahani-cembalo-neues-bachisches-collegium-musicum-reinhard-goebel-leitung-731693/
LOCATION:Lutherkirche\, Leipzig
END:VEVENT
END:VCALENDAR