BEGIN:VCALENDAR
VERSION:2.0
PRODID:concerti//https://www.concerti.de
CALSCALE:GREGORIAN
BEGIN:VTIMEZONE
TZID:Europe/Berlin
X-LIC-LOCATION:Europe/Berlin
BEGIN:DAYLIGHT
TZOFFSETFROM:+0100
TZOFFSETTO:+0200
TZNAME:CEST
DTSTART:19700329T020000
RRULE:FREQ=YEARLY;BYMONTH=3;BYDAY=-1SU
END:DAYLIGHT
BEGIN:STANDARD
TZOFFSETFROM:+0200
TZOFFSETTO:+0100
TZNAME:CET
DTSTART:19701025T030000
RRULE:FREQ=YEARLY;BYMONTH=10;BYDAY=-1SU
END:STANDARD
END:VTIMEZONE
BEGIN:VEVENT
UID:e71b4ad1ba2c6198d9a74b7e4cce5275
SUMMARY:Lang Lang (Klavier), Gewandhausorchester, Andris Nelsons (Leitung)
URL:https://www.concerti.de/termine/lang-lang-klavier-gewandhausorchester-andris-nelsons-leitung-gewandhaus-leipzig-731722/
DTSTART;TZID=Europe/Berlin:20260626T193000
DTEND;TZID=Europe/Berlin:20260626T213000
DESCRIPTION:Interpreten: Lang Lang (Klavier)\, Gewandhausorchester\, Andris Nelsons (Leitung) \nProgramm: Beethoven: Ouvertüre zu „Die Geschöpfe des Prometheus“ op. 43\, Klavierkonzerte Nr. 3 c-Moll op. 37 & Nr. 5 Es-Dur op. 73 \nhttps://www.concerti.de/termine/lang-lang-klavier-gewandhausorchester-andris-nelsons-leitung-gewandhaus-leipzig-731722/
LOCATION:Gewandhaus Leipzig\, Augustusplatz 8\, 04109 Leipzig
END:VEVENT
END:VCALENDAR