BEGIN:VCALENDAR
VERSION:2.0
PRODID:concerti//https://www.concerti.de
CALSCALE:GREGORIAN
BEGIN:VTIMEZONE
TZID:Europe/Berlin
X-LIC-LOCATION:Europe/Berlin
BEGIN:DAYLIGHT
TZOFFSETFROM:+0100
TZOFFSETTO:+0200
TZNAME:CEST
DTSTART:19700329T020000
RRULE:FREQ=YEARLY;BYMONTH=3;BYDAY=-1SU
END:DAYLIGHT
BEGIN:STANDARD
TZOFFSETFROM:+0200
TZOFFSETTO:+0100
TZNAME:CET
DTSTART:19701025T030000
RRULE:FREQ=YEARLY;BYMONTH=10;BYDAY=-1SU
END:STANDARD
END:VTIMEZONE
BEGIN:VEVENT
UID:dc571ec3db3a9cae73ed884eabad77ef
SUMMARY:Kammermusik der Mendelssohn-Orchesterakademie
URL:https://www.concerti.de/termine/mitglieder-der-mendelssohn-orchesterakademie-elisaveta-blumina-leitung-gewandhaus-leipzig-731460/
DTSTART;TZID=Europe/Berlin:20260628T110000
DTEND;TZID=Europe/Berlin:20260628T130000
DESCRIPTION:Interpreten: Henrique Gonçalves (Violine)\, Carolin Susanna Herrmann (Violine)\, María Espino Codes (Violine)\, Yunah Seo (Violine)\, Eira Martinez Rivero (Viola)\, Nicola Maisenbacher (Viola)\, Jasmin Blomenkamp (Violoncello)\, Elias Wagner (Violoncello) \nProgramm: Dvořák: Quintett G-Dur op. 77 & Quintett Es-Dur op. 87\, Hindemith: Kammermusik Nr. 1 op. 24/1 \nhttps://www.concerti.de/termine/mitglieder-der-mendelssohn-orchesterakademie-elisaveta-blumina-leitung-gewandhaus-leipzig-731460/
LOCATION:Hochschule für Musik und Theater Felix Mendelssohn Bartholdy\, Leipzig
END:VEVENT
END:VCALENDAR