BEGIN:VCALENDAR
VERSION:2.0
PRODID:concerti//https://www.concerti.de
CALSCALE:GREGORIAN
BEGIN:VTIMEZONE
TZID:Europe/Berlin
X-LIC-LOCATION:Europe/Berlin
BEGIN:DAYLIGHT
TZOFFSETFROM:+0100
TZOFFSETTO:+0200
TZNAME:CEST
DTSTART:19700329T020000
RRULE:FREQ=YEARLY;BYMONTH=3;BYDAY=-1SU
END:DAYLIGHT
BEGIN:STANDARD
TZOFFSETFROM:+0200
TZOFFSETTO:+0100
TZNAME:CET
DTSTART:19701025T030000
RRULE:FREQ=YEARLY;BYMONTH=10;BYDAY=-1SU
END:STANDARD
END:VTIMEZONE
BEGIN:VEVENT
UID:75d375d24b44c2fde1e4ca2f5579b74d
SUMMARY:Seong-Jin Cho (Klavier), Deutsches Symphonie-Orchester Berlin, Kazuki Yamada (Leitung)
URL:https://www.concerti.de/termine/seong-jin-cho-klavier-deutsches-symphonie-orchester-berlin-kazuki-yamada-leitung-philharmonie-berlin-732075/
DTSTART;TZID=Europe/Berlin:20260426T200000
DTEND;TZID=Europe/Berlin:20260426T220000
DESCRIPTION:Interpreten: Seong-Jin Cho (Klavier)\, Deutsches Symphonie-Orchester Berlin\, Kazuki Yamada (Leitung) \nProgramm: Holmès: La Nuit et l’amour\, Webern: Passacaglia\, Beethoven: Klavierkonzert Nr. 1 C-Dur\, Schumann: Sinfonie Nr. 1 B-Dur „Frühling“ \nhttps://www.concerti.de/termine/seong-jin-cho-klavier-deutsches-symphonie-orchester-berlin-kazuki-yamada-leitung-philharmonie-berlin-732075/
LOCATION:Philharmonie Berlin\, Herbert-von-Karajan-Straße 1\, 10785 Berlin
END:VEVENT
END:VCALENDAR