BEGIN:VCALENDAR
VERSION:2.0
PRODID:concerti//https://www.concerti.de
CALSCALE:GREGORIAN
BEGIN:VTIMEZONE
TZID:Europe/Berlin
X-LIC-LOCATION:Europe/Berlin
BEGIN:DAYLIGHT
TZOFFSETFROM:+0100
TZOFFSETTO:+0200
TZNAME:CEST
DTSTART:19700329T020000
RRULE:FREQ=YEARLY;BYMONTH=3;BYDAY=-1SU
END:DAYLIGHT
BEGIN:STANDARD
TZOFFSETFROM:+0200
TZOFFSETTO:+0100
TZNAME:CET
DTSTART:19701025T030000
RRULE:FREQ=YEARLY;BYMONTH=10;BYDAY=-1SU
END:STANDARD
END:VTIMEZONE
BEGIN:VEVENT
UID:953dec1d4f43dda9b3fe16a0fca5af19
SUMMARY:Bizet: Carmen
URL:https://www.concerti.de/termine/bizet-carmen-734554/
DTSTART;TZID=Europe/Berlin:20260505T193000
DTEND;TZID=Europe/Berlin:20260505T213000
DESCRIPTION:Interpreten: Ensembel des Theater Pforzheim\, Daniel Inbal (Leitung)\, Claudia Isabel Martin (Regie) \nhttps://www.concerti.de/termine/bizet-carmen-734554/
LOCATION:Stadttheater Schaffhausen\, Herrenacker 23\, 8200 Schaffhausen
END:VEVENT
END:VCALENDAR