BEGIN:VCALENDAR
VERSION:2.0
PRODID:concerti//https://www.concerti.de
CALSCALE:GREGORIAN
BEGIN:VTIMEZONE
TZID:Europe/Berlin
X-LIC-LOCATION:Europe/Berlin
BEGIN:DAYLIGHT
TZOFFSETFROM:+0100
TZOFFSETTO:+0200
TZNAME:CEST
DTSTART:19700329T020000
RRULE:FREQ=YEARLY;BYMONTH=3;BYDAY=-1SU
END:DAYLIGHT
BEGIN:STANDARD
TZOFFSETFROM:+0200
TZOFFSETTO:+0100
TZNAME:CET
DTSTART:19701025T030000
RRULE:FREQ=YEARLY;BYMONTH=10;BYDAY=-1SU
END:STANDARD
END:VTIMEZONE
BEGIN:VEVENT
UID:18660458de7f0de9dfac9802d1686088
SUMMARY:Die italienische Operngala
URL:https://www.concerti.de/termine/die-italienische-operngala-theater-muenster-735053/
DTSTART;TZID=Europe/Berlin:20260626T193000
DTEND;TZID=Europe/Berlin:20260626T213000
DESCRIPTION:Interpreten: Robyn Allegra Parton (Sopran)\, Wioletta Hebrowska (Mezzosopran)\, Garrie Davislim (Tenor)\, Johan Hyunbong Choi (Bariton)\, Gregor Dalal (Bariton)\, Kihoon Yoo (Bass)\, Sinfonieorchester Münster\, Henning Ehlert (Leitung) \nProgramm: Werke von Rossini\, Bellini\, Donizetti\, Puccini u. a. \nhttps://www.concerti.de/termine/die-italienische-operngala-theater-muenster-735053/
LOCATION:Theater Münster\, Neubrückenstraße 63\, 48143 Münster
END:VEVENT
END:VCALENDAR