BEGIN:VCALENDAR
VERSION:2.0
PRODID:concerti//https://www.concerti.de
CALSCALE:GREGORIAN
BEGIN:VTIMEZONE
TZID:Europe/Berlin
X-LIC-LOCATION:Europe/Berlin
BEGIN:DAYLIGHT
TZOFFSETFROM:+0100
TZOFFSETTO:+0200
TZNAME:CEST
DTSTART:19700329T020000
RRULE:FREQ=YEARLY;BYMONTH=3;BYDAY=-1SU
END:DAYLIGHT
BEGIN:STANDARD
TZOFFSETFROM:+0200
TZOFFSETTO:+0100
TZNAME:CET
DTSTART:19701025T030000
RRULE:FREQ=YEARLY;BYMONTH=10;BYDAY=-1SU
END:STANDARD
END:VTIMEZONE
BEGIN:VEVENT
UID:b037977f192ad52e209f2d9df7a50b7b
SUMMARY:Priscilla – Queen of the Desert
URL:https://www.concerti.de/termine/priscilla-queen-of-the-desert-landestheater-salzburg-738018/
DTSTART;TZID=Europe/Berlin:20260501T190000
DTEND;TZID=Europe/Berlin:20260501T210000
DESCRIPTION:Interpreten: Wolfgang Götz/Tobias Meichsner (Leitung)\, Ramesh Nair (Regie) \nhttps://www.concerti.de/termine/priscilla-queen-of-the-desert-landestheater-salzburg-738018/
LOCATION:Landestheater Salzburg\, Schwarzstraße 22\, 5020 Salzburg
END:VEVENT
END:VCALENDAR