BEGIN:VCALENDAR
VERSION:2.0
PRODID:concerti//https://www.concerti.de
CALSCALE:GREGORIAN
BEGIN:VTIMEZONE
TZID:Europe/Berlin
X-LIC-LOCATION:Europe/Berlin
BEGIN:DAYLIGHT
TZOFFSETFROM:+0100
TZOFFSETTO:+0200
TZNAME:CEST
DTSTART:19700329T020000
RRULE:FREQ=YEARLY;BYMONTH=3;BYDAY=-1SU
END:DAYLIGHT
BEGIN:STANDARD
TZOFFSETFROM:+0200
TZOFFSETTO:+0100
TZNAME:CET
DTSTART:19701025T030000
RRULE:FREQ=YEARLY;BYMONTH=10;BYDAY=-1SU
END:STANDARD
END:VTIMEZONE
BEGIN:VEVENT
UID:a148cea9f53d5fd6b76c0855d2f3b953
SUMMARY:Mozart: Die Zauberflöte
URL:https://www.concerti.de/termine/mozart-die-zauberfloete-semperoper-738318/
DTSTART;TZID=Europe/Berlin:20260507T190000
DTEND;TZID=Europe/Berlin:20260507T210000
DESCRIPTION:Interpreten: Liv Redpath (Pamina)\, Mario Lerchenberger (Tamino)\, Maria Perlt-Gärtner (Königin der Nacht)\, Tobias Kehrer (Sarastro)\, Danylo Matviienko (Papageno)\, Dalia Medovnikov (Papagena)\, Felix Krieger (Leitung)\, Josef E. Köpplinger (Regie)\, Liv Redpath (Pamina)\, James Ley (Tamino)\, Alina Wunderlin (Königin der Nacht)\, Tobias Kehrer (Sarastro)\, Sean Michael Plumb (Papageno)\, Christiane Hossfeld (Papagena)\, Giulio Cilona (Leitung)\, Josef E. Köpplinger (Regie)\, Katharina Konradi (Pamina)\, James Ley (Tamino)\, Alina Wunderlin (Königin der Nacht)\, Adam Palka (Sarastro)\, Sean Michael Plumb (Papageno)\, Christiane Hossfeld (Papagena)\, Giulio Cilona (Leitung)\, Josef E. Köpplinger (Regie)\, Katharina Müllner (Leitung)\, Josef E. Köpplinger (Regie) \nhttps://www.concerti.de/termine/mozart-die-zauberfloete-semperoper-738318/
LOCATION:Semperoper\, Theaterplatz 2\, 01067 Dresden
END:VEVENT
END:VCALENDAR