BEGIN:VCALENDAR
VERSION:2.0
PRODID:concerti//https://www.concerti.de
CALSCALE:GREGORIAN
BEGIN:VTIMEZONE
TZID:Europe/Berlin
X-LIC-LOCATION:Europe/Berlin
BEGIN:DAYLIGHT
TZOFFSETFROM:+0100
TZOFFSETTO:+0200
TZNAME:CEST
DTSTART:19700329T020000
RRULE:FREQ=YEARLY;BYMONTH=3;BYDAY=-1SU
END:DAYLIGHT
BEGIN:STANDARD
TZOFFSETFROM:+0200
TZOFFSETTO:+0100
TZNAME:CET
DTSTART:19701025T030000
RRULE:FREQ=YEARLY;BYMONTH=10;BYDAY=-1SU
END:STANDARD
END:VTIMEZONE
BEGIN:VEVENT
UID:a753dc62f25c626fde6f8bc366f76620
SUMMARY:Kálmán: Die Csárdásfürstin
URL:https://www.concerti.de/termine/kalman-die-csardasfuerstin-740923/
DTSTART;TZID=Europe/Berlin:20260702T193000
DTEND;TZID=Europe/Berlin:20260702T213000
DESCRIPTION:Die rumänische Chansonnière Silva Varescu verzaubert das Publikum des Budapester Varietés\, während der Wiener Fürstensohn Edwin sich in sie verliebt. Doch die gesellschaftlichen Erwartungen und die familiären Verpflichtungen stehen ihrer Liebe im Weg. Silva verlässt enttäuscht die Stadt. Bei ihrer Rückkehr begegnet sie Edwin erneut – diesmal inkognito – und die Liebe flammt wieder auf. Emmerich Kálmáns Operette\, die 1915 in Wien uraufgeführt wurde\, ist ein Meisterwerk der „Silbernen Operettenära“. Mit schwungvollen Walzermelodien\, melancholischen Csárdás-Rhythmen und Ohrwürmern wie „Machen wir’s den Schwalben nach“ entführt sie in eine unbeschwerte Welt voller Lebensfreude und Sehnsucht. \nInterpreten: Emma McNairy (Sylva Varescu)\, Garrett Evers (Edwin)\, Tobias Glagau (Graf Boni Kánciánu)\, Hannah Gries (Komtesse Stasi)\, Roman David Rothenaicher (Leitung)\, Dominik Wilgenbus (Regie)\, Dara Hobbs/Emma McNairy (Sylva Varescu)\, Garrett Evers (Edwin)\, Tobias Glagau/Johannes Mooser (Bonifaziu)\, Monika Reinhard/Hannah Gries (Anastasia)\, Roman David Rothenaicher (Leitung)\, Dominik Wilgenbus (Regie) \nhttps://www.concerti.de/termine/kalman-die-csardasfuerstin-740923/
LOCATION:Meininger Staatstheater\, Bernhardstr. 5\, 98617 Meiningen
END:VEVENT
END:VCALENDAR