BEGIN:VCALENDAR
VERSION:2.0
PRODID:concerti//https://www.concerti.de
CALSCALE:GREGORIAN
BEGIN:VTIMEZONE
TZID:Europe/Berlin
X-LIC-LOCATION:Europe/Berlin
BEGIN:DAYLIGHT
TZOFFSETFROM:+0100
TZOFFSETTO:+0200
TZNAME:CEST
DTSTART:19700329T020000
RRULE:FREQ=YEARLY;BYMONTH=3;BYDAY=-1SU
END:DAYLIGHT
BEGIN:STANDARD
TZOFFSETFROM:+0200
TZOFFSETTO:+0100
TZNAME:CET
DTSTART:19701025T030000
RRULE:FREQ=YEARLY;BYMONTH=10;BYDAY=-1SU
END:STANDARD
END:VTIMEZONE
BEGIN:VEVENT
UID:e09173601a5fac9df6f3fbf7d0a211e6
SUMMARY:Puccini: Turandot
URL:https://www.concerti.de/termine/puccini-turandot-staatsoper-hannover-723796/
DTSTART;TZID=Europe/Berlin:20260503T160000
DTEND;TZID=Europe/Berlin:20260503T180000
DESCRIPTION:Interpreten: Liene Kinča (Turandot)\, Shavleg Armasi (Timur)\, Xavier Moreno (Calaf)\, Kiandra Howarth (Liù)\, Lars-Oliver Rühl (Altoum)\, Masaru Kumakura (Leitung)\, Jakob Peters-Messer (Regie)\, Liene Kinča (Turandot)\, Shavleg Armasi (Timur)\, Xavier Moreno (Calaf)\, Kiandra Howarth (Liù)\, Jan Kristof Schliep (Altoum)\, Mario Hartmuth (Leitung)\, Jakob Peters-Messer (Regie) \nhttps://www.concerti.de/termine/puccini-turandot-staatsoper-hannover-723796/
LOCATION:Staatsoper Hannover\, Opernplatz 1\, 30159 Hannover
END:VEVENT
END:VCALENDAR