BEGIN:VCALENDAR
VERSION:2.0
PRODID:concerti//https://www.concerti.de
CALSCALE:GREGORIAN
BEGIN:VTIMEZONE
TZID:Europe/Berlin
X-LIC-LOCATION:Europe/Berlin
BEGIN:DAYLIGHT
TZOFFSETFROM:+0100
TZOFFSETTO:+0200
TZNAME:CEST
DTSTART:19700329T020000
RRULE:FREQ=YEARLY;BYMONTH=3;BYDAY=-1SU
END:DAYLIGHT
BEGIN:STANDARD
TZOFFSETFROM:+0200
TZOFFSETTO:+0100
TZNAME:CET
DTSTART:19701025T030000
RRULE:FREQ=YEARLY;BYMONTH=10;BYDAY=-1SU
END:STANDARD
END:VTIMEZONE
BEGIN:VEVENT
UID:9c0bdc7127fb3cda86f34718db9a18f1
SUMMARY:Emmanuel Pahud (Flöte), Lise Berthaud (Viola), Marie-Pierre Langlamet (Harfe)
URL:https://www.concerti.de/termine/emmanuel-pahud-floete-lise-berthaud-viola-marie-pierre-langlamet-harfe-757574/
DTSTART;TZID=Europe/Berlin:20260519T193000
DTEND;TZID=Europe/Berlin:20260519T213000
DESCRIPTION:Interpreten: Emmanuel Pahud (Flöte)\, Lise Berthaud (Viola)\, Marie-Pierre Langlamet (Harfe) \nProgramm: Ibert: Deux Interludes\, Tournier: Vers la source dans le bois\, Debussy: Sonate für Flöte\, Viola & Harfe\, Jarrell: Le Point est la source de tout…\, Bax: Trio élégiaque\, Kurtág: Jelek op. 5b\, Ravel/Fabrice: Sonatine fis-Moll \nhttps://www.concerti.de/termine/emmanuel-pahud-floete-lise-berthaud-viola-marie-pierre-langlamet-harfe-757574/
LOCATION:Noda BCVS Sion\, Av. de Tourbillon 22\, 1950 Sion
END:VEVENT
END:VCALENDAR