BEGIN:VCALENDAR
VERSION:2.0
PRODID:concerti//https://www.concerti.de
CALSCALE:GREGORIAN
BEGIN:VTIMEZONE
TZID:Europe/Berlin
X-LIC-LOCATION:Europe/Berlin
BEGIN:DAYLIGHT
TZOFFSETFROM:+0100
TZOFFSETTO:+0200
TZNAME:CEST
DTSTART:19700329T020000
RRULE:FREQ=YEARLY;BYMONTH=3;BYDAY=-1SU
END:DAYLIGHT
BEGIN:STANDARD
TZOFFSETFROM:+0200
TZOFFSETTO:+0100
TZNAME:CET
DTSTART:19701025T030000
RRULE:FREQ=YEARLY;BYMONTH=10;BYDAY=-1SU
END:STANDARD
END:VTIMEZONE
BEGIN:VEVENT
UID:14f05fc7ea68363b9485a3726cd4aa1e
SUMMARY:Abschiedskonzert - Meisterkonzert
URL:https://www.concerti.de/termine/abschiedskonzert-759752/
DTSTART;TZID=Europe/Berlin:20260616T193000
DTEND;TZID=Europe/Berlin:20260616T213000
DESCRIPTION:Interpreten: Hagen Quartett \nProgramm: Schubert: Streichquartette Nr. 14 d-Moll D 810 „Der Tod und das Mädchen“ & Nr. 15 G-Dur D 887 \nhttps://www.concerti.de/termine/abschiedskonzert-759752/
LOCATION:Stiftung Mozarteum Salzburg\, Schwarzstraße 26\, 5020 Salzburg
END:VEVENT
END:VCALENDAR