BEGIN:VCALENDAR
VERSION:2.0
PRODID:concerti//https://www.concerti.de
CALSCALE:GREGORIAN
BEGIN:VTIMEZONE
TZID:Europe/Berlin
X-LIC-LOCATION:Europe/Berlin
BEGIN:DAYLIGHT
TZOFFSETFROM:+0100
TZOFFSETTO:+0200
TZNAME:CEST
DTSTART:19700329T020000
RRULE:FREQ=YEARLY;BYMONTH=3;BYDAY=-1SU
END:DAYLIGHT
BEGIN:STANDARD
TZOFFSETFROM:+0200
TZOFFSETTO:+0100
TZNAME:CET
DTSTART:19701025T030000
RRULE:FREQ=YEARLY;BYMONTH=10;BYDAY=-1SU
END:STANDARD
END:VTIMEZONE
BEGIN:VEVENT
UID:821d142948ce52bf65d4ea985f8eee03
SUMMARY:Bizet: Carmen
URL:https://www.concerti.de/termine/bizet-carmen-oper-leipzig-761426/
DTSTART;TZID=Europe/Berlin:20260509T190000
DTEND;TZID=Europe/Berlin:20260509T210000
DESCRIPTION:Interpreten: Maya Gour (Carmen)\, Irakli Kakhidze (Don José)\, Tuomas Pursio (Escamillo)\, Solen Mainguené (Micaëla)\, Matthias Foremny (Leitung)\, Lindy Hume (Regie) \nhttps://www.concerti.de/termine/bizet-carmen-oper-leipzig-761426/
LOCATION:Oper Leipzig\, Augustusplatz 12\, 04109 Leipzig
END:VEVENT
END:VCALENDAR