BEGIN:VCALENDAR
VERSION:2.0
PRODID:concerti//https://www.concerti.de
CALSCALE:GREGORIAN
BEGIN:VTIMEZONE
TZID:Europe/Berlin
X-LIC-LOCATION:Europe/Berlin
BEGIN:DAYLIGHT
TZOFFSETFROM:+0100
TZOFFSETTO:+0200
TZNAME:CEST
DTSTART:19700329T020000
RRULE:FREQ=YEARLY;BYMONTH=3;BYDAY=-1SU
END:DAYLIGHT
BEGIN:STANDARD
TZOFFSETFROM:+0200
TZOFFSETTO:+0100
TZNAME:CET
DTSTART:19701025T030000
RRULE:FREQ=YEARLY;BYMONTH=10;BYDAY=-1SU
END:STANDARD
END:VTIMEZONE
BEGIN:VEVENT
UID:8db428c81c634a7059dbcacee36562d8
SUMMARY:Händel: Giulio Cesare in Egitto
URL:https://www.concerti.de/termine/haendel-giulio-cesare-in-egitto-oper-leipzig-761457/
DTSTART;TZID=Europe/Berlin:20260613T190000
DTEND;TZID=Europe/Berlin:20260613T210000
DESCRIPTION:Interpreten: Rubén Dubrovsky (Leitung)\, Damiano Michieletto (Regie) \nhttps://www.concerti.de/termine/haendel-giulio-cesare-in-egitto-oper-leipzig-761457/
LOCATION:Oper Leipzig\, Augustusplatz 12\, 04109 Leipzig
END:VEVENT
END:VCALENDAR