BEGIN:VCALENDAR
VERSION:2.0
PRODID:concerti//https://www.concerti.de
CALSCALE:GREGORIAN
BEGIN:VTIMEZONE
TZID:Europe/Berlin
X-LIC-LOCATION:Europe/Berlin
BEGIN:DAYLIGHT
TZOFFSETFROM:+0100
TZOFFSETTO:+0200
TZNAME:CEST
DTSTART:19700329T020000
RRULE:FREQ=YEARLY;BYMONTH=3;BYDAY=-1SU
END:DAYLIGHT
BEGIN:STANDARD
TZOFFSETFROM:+0200
TZOFFSETTO:+0100
TZNAME:CET
DTSTART:19701025T030000
RRULE:FREQ=YEARLY;BYMONTH=10;BYDAY=-1SU
END:STANDARD
END:VTIMEZONE
BEGIN:VEVENT
UID:4a3e1f0d88827d229842535483e7f6a0
SUMMARY:Mozart: Missa brevis F-Dur KV 192
URL:https://www.concerti.de/termine/mozart-missa-brevis-f-dur-kv-192-762298/
DTSTART;TZID=Europe/Berlin:20260503T091500
DTEND;TZID=Europe/Berlin:20260503T111500
DESCRIPTION:Interpreten: Wolfgang Kogert (Orgel)\, Wiener Sängerknaben\, Choralschola der Wiener Hofburgkapelle\, Mitglieder des Herrenchors & Orchesters der Wiener Staatsoper\, Cornelius Meister (Leitung)\, Peter Schipka (Zelebrant) \nhttps://www.concerti.de/termine/mozart-missa-brevis-f-dur-kv-192-762298/
LOCATION:Hofburgkapelle Wien\, Hofburg - Schweizerhof\, 1010 Wien
END:VEVENT
END:VCALENDAR