BEGIN:VCALENDAR
VERSION:2.0
PRODID:concerti//https://www.concerti.de
CALSCALE:GREGORIAN
BEGIN:VTIMEZONE
TZID:Europe/Berlin
X-LIC-LOCATION:Europe/Berlin
BEGIN:DAYLIGHT
TZOFFSETFROM:+0100
TZOFFSETTO:+0200
TZNAME:CEST
DTSTART:19700329T020000
RRULE:FREQ=YEARLY;BYMONTH=3;BYDAY=-1SU
END:DAYLIGHT
BEGIN:STANDARD
TZOFFSETFROM:+0200
TZOFFSETTO:+0100
TZNAME:CET
DTSTART:19701025T030000
RRULE:FREQ=YEARLY;BYMONTH=10;BYDAY=-1SU
END:STANDARD
END:VTIMEZONE
BEGIN:VEVENT
UID:2abdc9e066914e5400ee864f1a51c7e1
SUMMARY:Rota: Der Florentiner Hut
URL:https://www.concerti.de/termine/rota-der-florentiner-hut-semperoper-763465/
DTSTART;TZID=Europe/Berlin:20260606T190000
DTEND;TZID=Europe/Berlin:20260606T210000
DESCRIPTION:Gefräßige Haustiere können für Aufregung sorgen und die ganze Lebensplanung über den Haufen werfen. Den besten Beweis liefert die 1945 entstandene komische Oper „Der Florentiner Hut“ aus der Feder des Filmkomponisten Nino Rota. Just am Hochzeitstag von Fadinard frisst das Pferd des Bräutigams den Strohhut einer Dame\, die sich gerade im Gebüsch mit einem Liebhaber vergnügt. Aus Angst\, über den verschwundenen Kopfschmuck gegenüber ihrem eifersüchtigen Gatten in Erklärungsnot zu geraten\, verlangt sie von Fadinard einen Ersatz. Es beginnt eine abenteuerliche Odyssee durch halb Paris\, temporeich in Szene gesetzt von Regisseur Bernd Mottl. \nInterpreten: Piotr Buszewski (Fadinard)\, Alexander Grassauer (Nonancourt)\, Maire Therese Carmack (Baronin de Champigny)\, Rosalia Cid (Elena)\, Daniele Squeo (Leitung)\, Bernd Mottl (Regie) \nhttps://www.concerti.de/termine/rota-der-florentiner-hut-semperoper-763465/
LOCATION:Semperoper\, Theaterplatz 2\, 01067 Dresden
END:VEVENT
END:VCALENDAR