BEGIN:VCALENDAR
VERSION:2.0
PRODID:concerti//https://www.concerti.de
CALSCALE:GREGORIAN
BEGIN:VTIMEZONE
TZID:Europe/Berlin
X-LIC-LOCATION:Europe/Berlin
BEGIN:DAYLIGHT
TZOFFSETFROM:+0100
TZOFFSETTO:+0200
TZNAME:CEST
DTSTART:19700329T020000
RRULE:FREQ=YEARLY;BYMONTH=3;BYDAY=-1SU
END:DAYLIGHT
BEGIN:STANDARD
TZOFFSETFROM:+0200
TZOFFSETTO:+0100
TZNAME:CET
DTSTART:19701025T030000
RRULE:FREQ=YEARLY;BYMONTH=10;BYDAY=-1SU
END:STANDARD
END:VTIMEZONE
BEGIN:VEVENT
UID:d3338c6d8aa5508def975d00a70cdb24
SUMMARY:Michael Goldammer (Englischhorn), Sächsische Staatskapelle Dresden, Gergely Madaras (Leitung)
URL:https://www.concerti.de/termine/michael-goldammer-englischhorn-saechsische-staatskapelle-dresden-gergely-madaras-leitung-semperoper-763521/
DTSTART;TZID=Europe/Berlin:20260709T200000
DTEND;TZID=Europe/Berlin:20260709T220000
DESCRIPTION:Interpreten: Michael Goldammer (Englischhorn)\, Sächsische Staatskapelle Dresden\, Gergely Madaras (Leitung) \nProgramm: Kodály: Tänze aus Galánta\, Vogt: Englischhornkonzert\, Schubert: Sinfonie Nr. 4 c-Moll \nhttps://www.concerti.de/termine/michael-goldammer-englischhorn-saechsische-staatskapelle-dresden-gergely-madaras-leitung-semperoper-763521/
LOCATION:Semperoper\, Theaterplatz 2\, 01067 Dresden
END:VEVENT
END:VCALENDAR