BEGIN:VCALENDAR
VERSION:2.0
PRODID:concerti//https://www.concerti.de
CALSCALE:GREGORIAN
BEGIN:VTIMEZONE
TZID:Europe/Berlin
X-LIC-LOCATION:Europe/Berlin
BEGIN:DAYLIGHT
TZOFFSETFROM:+0100
TZOFFSETTO:+0200
TZNAME:CEST
DTSTART:19700329T020000
RRULE:FREQ=YEARLY;BYMONTH=3;BYDAY=-1SU
END:DAYLIGHT
BEGIN:STANDARD
TZOFFSETFROM:+0200
TZOFFSETTO:+0100
TZNAME:CET
DTSTART:19701025T030000
RRULE:FREQ=YEARLY;BYMONTH=10;BYDAY=-1SU
END:STANDARD
END:VTIMEZONE
BEGIN:VEVENT
UID:f57e9f25191592a568c12dcaf9bfe3f9
SUMMARY:Orff: Carmina Burana - Mitsingkonzert
URL:https://www.concerti.de/termine/orff-carmina-burana-705152/
DTSTART:20260712
DURATION:P1D
DESCRIPTION:Interpreten: Chöre aus ganz Bayern\, Chor des Bayerischen Rundfunks\, Symponieorchester des Bayerischen Rundfunks\, Simon Rattle (Leitung) \nhttps://www.concerti.de/termine/orff-carmina-burana-705152/
LOCATION:Regentenbau Bad Kissingen\, Ludwigstraße 2\, 97688 Bad Kissingen
END:VEVENT
END:VCALENDAR