BEGIN:VCALENDAR
VERSION:2.0
PRODID:concerti//https://www.concerti.de
CALSCALE:GREGORIAN
BEGIN:VTIMEZONE
TZID:Europe/Berlin
X-LIC-LOCATION:Europe/Berlin
BEGIN:DAYLIGHT
TZOFFSETFROM:+0100
TZOFFSETTO:+0200
TZNAME:CEST
DTSTART:19700329T020000
RRULE:FREQ=YEARLY;BYMONTH=3;BYDAY=-1SU
END:DAYLIGHT
BEGIN:STANDARD
TZOFFSETFROM:+0200
TZOFFSETTO:+0100
TZNAME:CET
DTSTART:19701025T030000
RRULE:FREQ=YEARLY;BYMONTH=10;BYDAY=-1SU
END:STANDARD
END:VTIMEZONE
BEGIN:VEVENT
UID:12ebee85aeac7860343732cb18b5cb44
SUMMARY:Open-Air
URL:https://www.concerti.de/termine/open-air-luitpoldhain-764699/
DTSTART;TZID=Europe/Berlin:20260808T200000
DTEND;TZID=Europe/Berlin:20260808T220000
DESCRIPTION:Interpreten: Nürnberger Symphoniker\, Jonathan Darlington (Leitung) \nhttps://www.concerti.de/termine/open-air-luitpoldhain-764699/
LOCATION:Luitpoldhain\, Luitpoldhain\, 90478 Nürnberg
END:VEVENT
END:VCALENDAR