BEGIN:VCALENDAR
VERSION:2.0
PRODID:concerti//https://www.concerti.de
CALSCALE:GREGORIAN
BEGIN:VTIMEZONE
TZID:Europe/Berlin
X-LIC-LOCATION:Europe/Berlin
BEGIN:DAYLIGHT
TZOFFSETFROM:+0100
TZOFFSETTO:+0200
TZNAME:CEST
DTSTART:19700329T020000
RRULE:FREQ=YEARLY;BYMONTH=3;BYDAY=-1SU
END:DAYLIGHT
BEGIN:STANDARD
TZOFFSETFROM:+0200
TZOFFSETTO:+0100
TZNAME:CET
DTSTART:19701025T030000
RRULE:FREQ=YEARLY;BYMONTH=10;BYDAY=-1SU
END:STANDARD
END:VTIMEZONE
BEGIN:VEVENT
UID:371fe0f4c40485db3a6421af0051b49c
SUMMARY:Andreas Kreuzhuber (Horn), Bamberger Symphoniker, Christoph Eschenbach (Leitung)
URL:https://www.concerti.de/termine/andreas-kreuzhuber-horn-bamberger-symphoniker-christoph-eschenbach-leitung-konzerthalle-bamberg-765938/
DTSTART;TZID=Europe/Berlin:20260419T170000
DTEND;TZID=Europe/Berlin:20260419T190000
DESCRIPTION:Interpreten: Andreas Kreuzhuber (Horn)\, Bamberger Symphoniker\, Christoph Eschenbach (Leitung) \nProgramm: Weber: Ouvertüre zu „Der Freischütz“\, Glière: Hornkonzert B-Dur op. 91\, Schubert: Sinfonie Nr. 7 h-Moll D 759 „Unvollendete“\, Rossini: Ouvertüre zu „Wilhelm Tell“ \nhttps://www.concerti.de/termine/andreas-kreuzhuber-horn-bamberger-symphoniker-christoph-eschenbach-leitung-konzerthalle-bamberg-765938/
LOCATION:Konzerthalle Bamberg\, Mußstraße 1\, 96047 Bamberg
END:VEVENT
END:VCALENDAR