BEGIN:VCALENDAR
VERSION:2.0
PRODID:concerti//https://www.concerti.de
CALSCALE:GREGORIAN
BEGIN:VTIMEZONE
TZID:Europe/Berlin
X-LIC-LOCATION:Europe/Berlin
BEGIN:DAYLIGHT
TZOFFSETFROM:+0100
TZOFFSETTO:+0200
TZNAME:CEST
DTSTART:19700329T020000
RRULE:FREQ=YEARLY;BYMONTH=3;BYDAY=-1SU
END:DAYLIGHT
BEGIN:STANDARD
TZOFFSETFROM:+0200
TZOFFSETTO:+0100
TZNAME:CET
DTSTART:19701025T030000
RRULE:FREQ=YEARLY;BYMONTH=10;BYDAY=-1SU
END:STANDARD
END:VTIMEZONE
BEGIN:VEVENT
UID:79d66dd86e4f2d29a4fb0de01b483b05
SUMMARY:Ilian Garnetz (Violine), Stanislav Jar (Klavier)
URL:https://www.concerti.de/termine/ilian-garnetz-violine-stanislav-jar-klavier-konzerthalle-bamberg-766025/
DTSTART;TZID=Europe/Berlin:20260509T200000
DTEND;TZID=Europe/Berlin:20260509T220000
DESCRIPTION:Interpreten: Ilian Garnetz (Violine)\, Stanislav Jar (Klavier) \nProgramm: Enescu: Violinsonate Nr. 2 f-Moll op. 6\, Ravel: Violinsonate Nr. 2\, Bartók: Violinsonate Nr. 1 \nhttps://www.concerti.de/termine/ilian-garnetz-violine-stanislav-jar-klavier-konzerthalle-bamberg-766025/
LOCATION:Konzerthalle Bamberg\, Mußstraße 1\, 96047 Bamberg
END:VEVENT
END:VCALENDAR