BEGIN:VCALENDAR
VERSION:2.0
PRODID:concerti//https://www.concerti.de
CALSCALE:GREGORIAN
BEGIN:VTIMEZONE
TZID:Europe/Berlin
X-LIC-LOCATION:Europe/Berlin
BEGIN:DAYLIGHT
TZOFFSETFROM:+0100
TZOFFSETTO:+0200
TZNAME:CEST
DTSTART:19700329T020000
RRULE:FREQ=YEARLY;BYMONTH=3;BYDAY=-1SU
END:DAYLIGHT
BEGIN:STANDARD
TZOFFSETFROM:+0200
TZOFFSETTO:+0100
TZNAME:CET
DTSTART:19701025T030000
RRULE:FREQ=YEARLY;BYMONTH=10;BYDAY=-1SU
END:STANDARD
END:VTIMEZONE
BEGIN:VEVENT
UID:2ad80a6a50c4fa20d578f227a11a1dec
SUMMARY:The Mahler Competition – Finalkonzert
URL:https://www.concerti.de/termine/the-mahler-competition-finalkonzert-konzerthalle-bamberg-766059/
DTSTART;TZID=Europe/Berlin:20260703T190000
DTEND;TZID=Europe/Berlin:20260703T210000
DESCRIPTION:Interpreten: Finalisten der „The Mahler Competition“ \nhttps://www.concerti.de/termine/the-mahler-competition-finalkonzert-konzerthalle-bamberg-766059/
LOCATION:Konzerthalle Bamberg\, Mußstraße 1\, 96047 Bamberg
END:VEVENT
END:VCALENDAR