BEGIN:VCALENDAR
VERSION:2.0
PRODID:concerti//https://www.concerti.de
CALSCALE:GREGORIAN
BEGIN:VTIMEZONE
TZID:Europe/Berlin
X-LIC-LOCATION:Europe/Berlin
BEGIN:DAYLIGHT
TZOFFSETFROM:+0100
TZOFFSETTO:+0200
TZNAME:CEST
DTSTART:19700329T020000
RRULE:FREQ=YEARLY;BYMONTH=3;BYDAY=-1SU
END:DAYLIGHT
BEGIN:STANDARD
TZOFFSETFROM:+0200
TZOFFSETTO:+0100
TZNAME:CET
DTSTART:19701025T030000
RRULE:FREQ=YEARLY;BYMONTH=10;BYDAY=-1SU
END:STANDARD
END:VTIMEZONE
BEGIN:VEVENT
UID:14ad4771e82649cc8c6acfc34b501ccc
SUMMARY:Natschinski: Messeschlager Gisela
URL:https://www.concerti.de/termine/natschinski-messeschlager-gisela-staatstheater-cottbus-766647/
DTSTART;TZID=Europe/Berlin:20260506T193000
DTEND;TZID=Europe/Berlin:20260506T213000
DESCRIPTION:Mit „Messeschlager Gisela“ zeigt das Staatstheater Cottbus einen 1960er-Jahre-Klassiker des heiteren Musiktheaters der DDR in neuer Frische. Gerd Natschinskis spritzige Musik\, die ihm zuweilen den Titel des sogenannten „DDR-Gershwin“ einbrachte\, verbindet charmante Leichtigkeit mit feiner Satire auf Bürokratie und verkrustete Strukturen. Im Zentrum steht die gewiefte Gisela\, deren Kleidermodell auf der Leipziger Modemesse für Aufsehen sorgt: Durch geschickt eingefädelte Intrigen und die Hilfe eines verliebten Journalisten wird ihr Entwurf zum Erfolg\, während überhebliche Vorgesetzte auf der Strecke bleiben. Unter der Regie von Katja Wolff wird die Operette mit Humor\, Raffinesse und frischem Pepp inszeniert. \nInterpreten: Anna Martha Schuitemaker (Gisela Claus)\, Thorsten Coers (Inge)\, Gesine Forberger (Emma Puhlmann)\, Heiko Walter (Robert Kuckuck)\, Julia Klotz (Marghuerita Kulicke)\, Johannes Zurl (Leitung)\, Katja Wolff (Regie) \nhttps://www.concerti.de/termine/natschinski-messeschlager-gisela-staatstheater-cottbus-766647/
LOCATION:Staatstheater Cottbus\, Schillerstraße 1\, 03046 Cottbus
END:VEVENT
END:VCALENDAR