BEGIN:VCALENDAR
VERSION:2.0
PRODID:concerti//https://www.concerti.de
CALSCALE:GREGORIAN
BEGIN:VTIMEZONE
TZID:Europe/Berlin
X-LIC-LOCATION:Europe/Berlin
BEGIN:DAYLIGHT
TZOFFSETFROM:+0100
TZOFFSETTO:+0200
TZNAME:CEST
DTSTART:19700329T020000
RRULE:FREQ=YEARLY;BYMONTH=3;BYDAY=-1SU
END:DAYLIGHT
BEGIN:STANDARD
TZOFFSETFROM:+0200
TZOFFSETTO:+0100
TZNAME:CET
DTSTART:19701025T030000
RRULE:FREQ=YEARLY;BYMONTH=10;BYDAY=-1SU
END:STANDARD
END:VTIMEZONE
BEGIN:VEVENT
UID:720c6da604d3349d1a0414df5a507600
SUMMARY:Christiane Karg (Sopran), Emma Wernig (Viola), Maciej Kutakowski, (Violoncello), Quatuor Agate
URL:https://www.concerti.de/termine/christiane-karg-sopran-emma-wernig-viola-maciej-kutakowski-violoncello-quatuor-agate-768528/
DTSTART;TZID=Europe/Berlin:20260816T190000
DTEND;TZID=Europe/Berlin:20260816T210000
DESCRIPTION:Interpreten: Christiane Karg (Sopran)\, Emma Wernig (Viola)\, Maciej Kutakowski\, (Violoncello)\, Quatuor Agate \nhttps://www.concerti.de/termine/christiane-karg-sopran-emma-wernig-viola-maciej-kutakowski-violoncello-quatuor-agate-768528/
LOCATION:Kreuzgang\, Feuchtwangen
END:VEVENT
END:VCALENDAR