BEGIN:VCALENDAR
VERSION:2.0
PRODID:concerti//https://www.concerti.de
CALSCALE:GREGORIAN
BEGIN:VTIMEZONE
TZID:Europe/Berlin
X-LIC-LOCATION:Europe/Berlin
BEGIN:DAYLIGHT
TZOFFSETFROM:+0100
TZOFFSETTO:+0200
TZNAME:CEST
DTSTART:19700329T020000
RRULE:FREQ=YEARLY;BYMONTH=3;BYDAY=-1SU
END:DAYLIGHT
BEGIN:STANDARD
TZOFFSETFROM:+0200
TZOFFSETTO:+0100
TZNAME:CET
DTSTART:19701025T030000
RRULE:FREQ=YEARLY;BYMONTH=10;BYDAY=-1SU
END:STANDARD
END:VTIMEZONE
BEGIN:VEVENT
UID:fa5727454e6cf28208798d50c4d8ed8e
SUMMARY:Wang Wei (Klavier), Klassische Philharmonie Bonn, Raphaël Merlin (Leitung)
URL:https://www.concerti.de/termine/wang-wie-klavier-klassische-philharmonie-bonn-raphael-merlin-leitung-rudolf-oetker-halle-768820/
DTSTART;TZID=Europe/Berlin:20260425T200000
DTEND;TZID=Europe/Berlin:20260425T220000
DESCRIPTION:Interpreten: Wang Wei (Klavier)\, Klassische Philharmonie Bonn\, Raphaël Merlin (Leitung) \nProgramm: Rachmaninow: Klavierkonzert Nr. 2 c-Moll op. 18\, Rimski-Korsakow: Scheherazade op. 35 \nhttps://www.concerti.de/termine/wang-wie-klavier-klassische-philharmonie-bonn-raphael-merlin-leitung-rudolf-oetker-halle-768820/
LOCATION:Rudolf-Oetker-Halle\, Lampingstraße 16\, 33615 Bielefeld
END:VEVENT
END:VCALENDAR