BEGIN:VCALENDAR
VERSION:2.0
PRODID:concerti//https://www.concerti.de
CALSCALE:GREGORIAN
BEGIN:VTIMEZONE
TZID:Europe/Berlin
X-LIC-LOCATION:Europe/Berlin
BEGIN:DAYLIGHT
TZOFFSETFROM:+0100
TZOFFSETTO:+0200
TZNAME:CEST
DTSTART:19700329T020000
RRULE:FREQ=YEARLY;BYMONTH=3;BYDAY=-1SU
END:DAYLIGHT
BEGIN:STANDARD
TZOFFSETFROM:+0200
TZOFFSETTO:+0100
TZNAME:CET
DTSTART:19701025T030000
RRULE:FREQ=YEARLY;BYMONTH=10;BYDAY=-1SU
END:STANDARD
END:VTIMEZONE
BEGIN:VEVENT
UID:4bc0081ddeee5cc4462eabbc268f7bf3
SUMMARY:BiPhil at the Movies
URL:https://www.concerti.de/termine/biphil-at-the-movies-rudolf-oetker-halle-768998/
DTSTART;TZID=Europe/Berlin:20260509T200000
DTEND;TZID=Europe/Berlin:20260509T220000
DESCRIPTION:Interpreten: Bielefelder Philharmoniker\, Anne Hinrichsen (Leitung)\, Insa Pijanka (Moderation) \nProgramm: Werke von Williams\, Goldsmith\, Zimmer u. a. \nhttps://www.concerti.de/termine/biphil-at-the-movies-rudolf-oetker-halle-768998/
LOCATION:Rudolf-Oetker-Halle\, Lampingstraße 16\, 33615 Bielefeld
END:VEVENT
END:VCALENDAR