BEGIN:VCALENDAR
VERSION:2.0
PRODID:concerti//https://www.concerti.de
CALSCALE:GREGORIAN
BEGIN:VTIMEZONE
TZID:Europe/Berlin
X-LIC-LOCATION:Europe/Berlin
BEGIN:DAYLIGHT
TZOFFSETFROM:+0100
TZOFFSETTO:+0200
TZNAME:CEST
DTSTART:19700329T020000
RRULE:FREQ=YEARLY;BYMONTH=3;BYDAY=-1SU
END:DAYLIGHT
BEGIN:STANDARD
TZOFFSETFROM:+0200
TZOFFSETTO:+0100
TZNAME:CET
DTSTART:19701025T030000
RRULE:FREQ=YEARLY;BYMONTH=10;BYDAY=-1SU
END:STANDARD
END:VTIMEZONE
BEGIN:VEVENT
UID:8c01dc25952be87fbc1f6e3a525fba4c
SUMMARY:Händel: Alcina
URL:https://www.concerti.de/termine/haendel-alcina-theater-regensburg-769491/
DTSTART;TZID=Europe/Berlin:20260611T193000
DTEND;TZID=Europe/Berlin:20260611T213000
DESCRIPTION:Interpreten: Kirsten Labonte (Alcina)\, Rahel Brede (Ruggerio)\, Scarlett Pulwey (Morgana)\, Polina Artsis (Bradamante)\, Andreas Kowalewitz (Leitung)\, Manuel Schmitt (Regie) \nhttps://www.concerti.de/termine/haendel-alcina-theater-regensburg-769491/
LOCATION:Theater Regensburg\, Bismarckpl. 7\, 93047 Regensburg
END:VEVENT
END:VCALENDAR