BEGIN:VCALENDAR
VERSION:2.0
PRODID:concerti//https://www.concerti.de
CALSCALE:GREGORIAN
BEGIN:VTIMEZONE
TZID:Europe/Berlin
X-LIC-LOCATION:Europe/Berlin
BEGIN:DAYLIGHT
TZOFFSETFROM:+0100
TZOFFSETTO:+0200
TZNAME:CEST
DTSTART:19700329T020000
RRULE:FREQ=YEARLY;BYMONTH=3;BYDAY=-1SU
END:DAYLIGHT
BEGIN:STANDARD
TZOFFSETFROM:+0200
TZOFFSETTO:+0100
TZNAME:CET
DTSTART:19701025T030000
RRULE:FREQ=YEARLY;BYMONTH=10;BYDAY=-1SU
END:STANDARD
END:VTIMEZONE
BEGIN:VEVENT
UID:fd5f38abdffd89c2ea2bb2a242ebdd1d
SUMMARY:Sara Domjanic (Violine), Dragos Manza (Violine), Catherine Ribes (Viola), Kerstin Beavers (Viola), Dorukhan Doruk (Violoncello), Michael Polyzoides (Violoncello)
URL:https://www.concerti.de/termine/sara-domjanic-violine-dragos-manza-violine-catherine-ribes-viola-kerstin-beavers-viola-dorukhan-doruk-violoncello-michael-polyzoides-violoncello-772066/
DTSTART;TZID=Europe/Berlin:20260607T110000
DTEND;TZID=Europe/Berlin:20260607T130000
DESCRIPTION:Interpreten: Sara Domjanic (Violine)\, Dragos Manza (Violine)\, Catherine Ribes (Viola)\, Kerstin Beavers (Viola)\, Dorukhan Doruk (Violoncello)\, Michael Polyzoides (Violoncello) \nProgramm: Tschaikowsky: Streichsextett d-Moll op. 70 „Souvenir de Florence“\, Schönberg: Verklärte Nacht / Streichsextett d-Moll op. 4 \nhttps://www.concerti.de/termine/sara-domjanic-violine-dragos-manza-violine-catherine-ribes-viola-kerstin-beavers-viola-dorukhan-doruk-violoncello-michael-polyzoides-violoncello-772066/
LOCATION:Palais Wittgenstein\, Düsseldorf
END:VEVENT
END:VCALENDAR