BEGIN:VCALENDAR
VERSION:2.0
PRODID:concerti//https://www.concerti.de
CALSCALE:GREGORIAN
BEGIN:VTIMEZONE
TZID:Europe/Berlin
X-LIC-LOCATION:Europe/Berlin
BEGIN:DAYLIGHT
TZOFFSETFROM:+0100
TZOFFSETTO:+0200
TZNAME:CEST
DTSTART:19700329T020000
RRULE:FREQ=YEARLY;BYMONTH=3;BYDAY=-1SU
END:DAYLIGHT
BEGIN:STANDARD
TZOFFSETFROM:+0200
TZOFFSETTO:+0100
TZNAME:CET
DTSTART:19701025T030000
RRULE:FREQ=YEARLY;BYMONTH=10;BYDAY=-1SU
END:STANDARD
END:VTIMEZONE
BEGIN:VEVENT
UID:6b8b13adeae181900d640f25f870506e
SUMMARY:Ilya Gringolts (Violine), Düsseldorfer Symphoniker, Alpesh Chauhan (Leitung)
URL:https://www.concerti.de/termine/ilya-gringolts-violine-duesseldorfer-symphoniker-alpesh-chauhan-leitung-tonhalle-duesseldorf-772084/
DTSTART;TZID=Europe/Berlin:20260712T110000
DTEND;TZID=Europe/Berlin:20260712T130000
DESCRIPTION:Interpreten: Ilya Gringolts (Violine)\, Düsseldorfer Symphoniker\, Alpesh Chauhan (Leitung) \nProgramm: Janácek: Sinfonietta für Orchester op. 60\, Korngold: Violinkonzert D-Dur op. 35\, Respighi: Fontane di Roma & Pini di Roma \nhttps://www.concerti.de/termine/ilya-gringolts-violine-duesseldorfer-symphoniker-alpesh-chauhan-leitung-tonhalle-duesseldorf-772084/
LOCATION:Tonhalle Düsseldorf\, Ehrenhof 1\, 40479 Düsseldorf
END:VEVENT
END:VCALENDAR