BEGIN:VCALENDAR
VERSION:2.0
PRODID:concerti//https://www.concerti.de
CALSCALE:GREGORIAN
BEGIN:VTIMEZONE
TZID:Europe/Berlin
X-LIC-LOCATION:Europe/Berlin
BEGIN:DAYLIGHT
TZOFFSETFROM:+0100
TZOFFSETTO:+0200
TZNAME:CEST
DTSTART:19700329T020000
RRULE:FREQ=YEARLY;BYMONTH=3;BYDAY=-1SU
END:DAYLIGHT
BEGIN:STANDARD
TZOFFSETFROM:+0200
TZOFFSETTO:+0100
TZNAME:CET
DTSTART:19701025T030000
RRULE:FREQ=YEARLY;BYMONTH=10;BYDAY=-1SU
END:STANDARD
END:VTIMEZONE
BEGIN:VEVENT
UID:ee38bd11b7069c115b1a1a623c6a5f5d
SUMMARY:Jazzik
URL:https://www.concerti.de/termine/jazzik-haus-des-rundfunks-772503/
DTSTART;TZID=Europe/Berlin:20260424T193000
DTEND;TZID=Europe/Berlin:20260424T213000
DESCRIPTION:Interpreten: Julian Joseph (Klavier)\, Rundfunk-Sinfonieorchester Berlin\, Miho Hazama (Leitung) \nProgramm: Hazama: Dom Justo’s Faith\, Gershwin: Rhapsody in Blue\, Ogerman: Sinfonische Tänze u. a. \nhttps://www.concerti.de/termine/jazzik-haus-des-rundfunks-772503/
LOCATION:Haus des Rundfunks\, Masurenallee 8 - 14\, 14057 Berlin
END:VEVENT
END:VCALENDAR