BEGIN:VCALENDAR
VERSION:2.0
PRODID:concerti//https://www.concerti.de
CALSCALE:GREGORIAN
BEGIN:VTIMEZONE
TZID:Europe/Berlin
X-LIC-LOCATION:Europe/Berlin
BEGIN:DAYLIGHT
TZOFFSETFROM:+0100
TZOFFSETTO:+0200
TZNAME:CEST
DTSTART:19700329T020000
RRULE:FREQ=YEARLY;BYMONTH=3;BYDAY=-1SU
END:DAYLIGHT
BEGIN:STANDARD
TZOFFSETFROM:+0200
TZOFFSETTO:+0100
TZNAME:CET
DTSTART:19701025T030000
RRULE:FREQ=YEARLY;BYMONTH=10;BYDAY=-1SU
END:STANDARD
END:VTIMEZONE
BEGIN:VEVENT
UID:0c52e2bac219d0a51562492d4637c419
SUMMARY:Anssi Karttunen (Violoncello), Rundfunk-Sinfonieorchester Berlin, Sakari Oramo (Leitung)
URL:https://www.concerti.de/termine/anssi-karttunen-violoncello-rundfunk-sinfonieorchester-berlin-sakari-oramo-leitung-philharmonie-berlin-772532/
DTSTART;TZID=Europe/Berlin:20260429T200000
DTEND;TZID=Europe/Berlin:20260429T220000
DESCRIPTION:Interpreten: Anssi Karttunen (Violoncello)\, Rundfunk-Sinfonieorchester Berlin\, Sakari Oramo (Leitung) \nProgramm: Sibelius: En saga op. 9\, Saariaho: Notes on Light\, Dvořák: Sinfonie Nr. 8 G-Dur op. 88 \nhttps://www.concerti.de/termine/anssi-karttunen-violoncello-rundfunk-sinfonieorchester-berlin-sakari-oramo-leitung-philharmonie-berlin-772532/
LOCATION:Philharmonie Berlin\, Herbert-von-Karajan-Straße 1\, 10785 Berlin
END:VEVENT
END:VCALENDAR