BEGIN:VCALENDAR
VERSION:2.0
PRODID:concerti//https://www.concerti.de
CALSCALE:GREGORIAN
BEGIN:VTIMEZONE
TZID:Europe/Berlin
X-LIC-LOCATION:Europe/Berlin
BEGIN:DAYLIGHT
TZOFFSETFROM:+0100
TZOFFSETTO:+0200
TZNAME:CEST
DTSTART:19700329T020000
RRULE:FREQ=YEARLY;BYMONTH=3;BYDAY=-1SU
END:DAYLIGHT
BEGIN:STANDARD
TZOFFSETFROM:+0200
TZOFFSETTO:+0100
TZNAME:CET
DTSTART:19701025T030000
RRULE:FREQ=YEARLY;BYMONTH=10;BYDAY=-1SU
END:STANDARD
END:VTIMEZONE
BEGIN:VEVENT
UID:d60bf37e1116173193e848f07dfc8972
SUMMARY:Eine abenteuerliche Klangreise
URL:https://www.concerti.de/termine/eine-abenteuerliche-klangreise-haus-des-rundfunks-772544/
DTSTART;TZID=Europe/Berlin:20260607T150000
DTEND;TZID=Europe/Berlin:20260607T170000
DESCRIPTION:Interpreten: Rundfunk-Sinfonieorchester Berlin\, Ana María Patiño-Osorio (Leitung)\, Malte Arkona (Moderation) \nProgramm: Werke von Villa-Lobos\, Piazzolla\, Moncayo\, Ginastera\, Márquez u. a. \nhttps://www.concerti.de/termine/eine-abenteuerliche-klangreise-haus-des-rundfunks-772544/
LOCATION:Haus des Rundfunks\, Masurenallee 8 - 14\, 14057 Berlin
END:VEVENT
END:VCALENDAR