BEGIN:VCALENDAR
VERSION:2.0
PRODID:concerti//https://www.concerti.de
CALSCALE:GREGORIAN
BEGIN:VTIMEZONE
TZID:Europe/Berlin
X-LIC-LOCATION:Europe/Berlin
BEGIN:DAYLIGHT
TZOFFSETFROM:+0100
TZOFFSETTO:+0200
TZNAME:CEST
DTSTART:19700329T020000
RRULE:FREQ=YEARLY;BYMONTH=3;BYDAY=-1SU
END:DAYLIGHT
BEGIN:STANDARD
TZOFFSETFROM:+0200
TZOFFSETTO:+0100
TZNAME:CET
DTSTART:19701025T030000
RRULE:FREQ=YEARLY;BYMONTH=10;BYDAY=-1SU
END:STANDARD
END:VTIMEZONE
BEGIN:VEVENT
UID:74d25d7beea7bb4cd414a39af3e0f3d4
SUMMARY:Benatzky: Im weißen Rössl
URL:https://www.concerti.de/termine/benatzky-im-weissen-roessl-theaterfabrik-blaue-halle-wuerzburg-772945/
DTSTART;TZID=Europe/Berlin:20260606T193000
DTEND;TZID=Europe/Berlin:20260606T213000
DESCRIPTION:Ralph Benatzkys „Im weißen Rössl“ mag in der sommerlichen Frische des Salzkammerguts spielen\, doch das turbulente Treiben um Wirtin Josepha Vogelhuber und ihren liebestollen Zahlkellner Leopold ist auf den Spielplänen wohltuende Wintermedizin. Denn Liebeswirren liegen in der Luft: Leopold macht seiner Chefin penetrant den Hof\, sie himmelt heimlich den eleganten Dr. Siedler an. Der verfällt wiederum Ottilie\, der Tochter des streitlustigen Fabrikanten Gieseke\, und findet sich prompt in einem skurrilen Patentstreit wieder. Erst der unerwartete Besuch des Kaisers bringt Ordnung in die juristisch-amouröse Misere. Am Mainfranken Theater nimmt Regisseur Tristan Braun Benatzkys Erfolgsoperette mit Verve und Witz unter die Lupe. \nInterpreten: Barbara Schöller (Josepha Vogelhuber)\, Max Gertsch (Leopold Brandmeyer)\, Daniel Fiolka (Wilhelm Giesecke)\, Vero Miller (Ottilie)\, Christian Miebach (Dr. Otto Siedler)\, Lutz de Veer (Leitung)\, Tristan Braun (Regie) \nhttps://www.concerti.de/termine/benatzky-im-weissen-roessl-theaterfabrik-blaue-halle-wuerzburg-772945/
LOCATION:Theaterfabrik Blaue Halle Würzburg\, Alfred-Nobel-Straße 33\, 97080 Würzburg
END:VEVENT
END:VCALENDAR