BEGIN:VCALENDAR
VERSION:2.0
PRODID:concerti//https://www.concerti.de
CALSCALE:GREGORIAN
BEGIN:VTIMEZONE
TZID:Europe/Berlin
X-LIC-LOCATION:Europe/Berlin
BEGIN:DAYLIGHT
TZOFFSETFROM:+0100
TZOFFSETTO:+0200
TZNAME:CEST
DTSTART:19700329T020000
RRULE:FREQ=YEARLY;BYMONTH=3;BYDAY=-1SU
END:DAYLIGHT
BEGIN:STANDARD
TZOFFSETFROM:+0200
TZOFFSETTO:+0100
TZNAME:CET
DTSTART:19701025T030000
RRULE:FREQ=YEARLY;BYMONTH=10;BYDAY=-1SU
END:STANDARD
END:VTIMEZONE
BEGIN:VEVENT
UID:19348250ca703d4aad1eb39078b1afa0
SUMMARY:Puccini: La fanciulla del West
URL:https://www.concerti.de/termine/puccini-la-fanciulla-del-west-aalto-musiktheater-773466/
DTSTART;TZID=Europe/Berlin:20260620T180000
DTEND;TZID=Europe/Berlin:20260620T200000
DESCRIPTION:Goldrausch und Liebesverstrickung treffen aufeinander\, begleitet von Raub\, Pistolenschüssen und der ständigen Drohung des Galgens: Im Saloon „Polka“ versammeln sich die Goldsucher. Als der Fremde Dick Johnson auftaucht\, verliebt sich Minnie augenblicklich in ihn\, ohne zu ahnen\, dass sich hinter dem Besucher der gesuchte Bandit Ramerrez verbirgt. Selbst als seine Tarnung zu fallen droht\, hält sie zu ihm. Ihre Zuneigung ruft Sheriff Rance auf den Plan\, der ebenfalls um Minnie wirbt. In einem Pokerspiel spitzt sich der Konflikt schließlich zu – und Johnsons Schicksal steht auf dem Spiel. Zeitlebens besaß Giacomo Puccini ein feines Gespür für ungewöhnliche Stoffe. Besonders neuartig [&hellip\;] \nInterpreten: Andrea Sanguineti (Leitung)\, Dirk Schmeding (Regie) \nhttps://www.concerti.de/termine/puccini-la-fanciulla-del-west-aalto-musiktheater-773466/
LOCATION:Aalto-Musiktheater Essen\, Opernplatz 10\, 45128 Essen
END:VEVENT
END:VCALENDAR