BEGIN:VCALENDAR
VERSION:2.0
PRODID:concerti//https://www.concerti.de
CALSCALE:GREGORIAN
BEGIN:VTIMEZONE
TZID:Europe/Berlin
X-LIC-LOCATION:Europe/Berlin
BEGIN:DAYLIGHT
TZOFFSETFROM:+0100
TZOFFSETTO:+0200
TZNAME:CEST
DTSTART:19700329T020000
RRULE:FREQ=YEARLY;BYMONTH=3;BYDAY=-1SU
END:DAYLIGHT
BEGIN:STANDARD
TZOFFSETFROM:+0200
TZOFFSETTO:+0100
TZNAME:CET
DTSTART:19701025T030000
RRULE:FREQ=YEARLY;BYMONTH=10;BYDAY=-1SU
END:STANDARD
END:VTIMEZONE
BEGIN:VEVENT
UID:8e6a5f1f43d94255f2cc61b01bbbd517
SUMMARY:Chamber Orchestra of Europe, Simon Rattle (Leitung)
URL:https://www.concerti.de/termine/chamber-orchestra-of-europe-simon-rattle-leitung-philharmonie-essen-773510/
DTSTART;TZID=Europe/Berlin:20260423T190000
DTEND;TZID=Europe/Berlin:20260423T210000
DESCRIPTION:Interpreten: Chamber Orchestra of Europe\, Simon Rattle (Leitung) \nProgramm: Bartók: Musik für Saiteninstrumente\, Schlagzeug & Celesta\, Busoni: Sarabande op. 51/1\, Brahms: Sinfonie Nr. 4 e-Moll op. 98 \nhttps://www.concerti.de/termine/chamber-orchestra-of-europe-simon-rattle-leitung-philharmonie-essen-773510/
LOCATION:Philharmonie Essen\, Huyssenallee 53\, 45128 Essen
END:VEVENT
END:VCALENDAR