BEGIN:VCALENDAR
VERSION:2.0
PRODID:concerti//https://www.concerti.de
CALSCALE:GREGORIAN
BEGIN:VTIMEZONE
TZID:Europe/Berlin
X-LIC-LOCATION:Europe/Berlin
BEGIN:DAYLIGHT
TZOFFSETFROM:+0100
TZOFFSETTO:+0200
TZNAME:CEST
DTSTART:19700329T020000
RRULE:FREQ=YEARLY;BYMONTH=3;BYDAY=-1SU
END:DAYLIGHT
BEGIN:STANDARD
TZOFFSETFROM:+0200
TZOFFSETTO:+0100
TZNAME:CET
DTSTART:19701025T030000
RRULE:FREQ=YEARLY;BYMONTH=10;BYDAY=-1SU
END:STANDARD
END:VTIMEZONE
BEGIN:VEVENT
UID:6133f8299fcaf89bd838903acd270cef
SUMMARY:Hansjörg Albrecht (Orgel)
URL:https://www.concerti.de/termine/hansjoerg-albrecht-orgel-philharmonie-essen-773513/
DTSTART;TZID=Europe/Berlin:20260425T190000
DTEND;TZID=Europe/Berlin:20260425T210000
DESCRIPTION:Interpreten: Hansjörg Albrecht (Orgel) \nProgramm: Händel/Albrecht: Feuerwerksmusik\, Vivaldi/Grimm: Die vier Jahreszeiten\, Mussorgski/Albrecht: Bilder einer Ausstellung \nhttps://www.concerti.de/termine/hansjoerg-albrecht-orgel-philharmonie-essen-773513/
LOCATION:Philharmonie Essen\, Huyssenallee 53\, 45128 Essen
END:VEVENT
END:VCALENDAR