BEGIN:VCALENDAR
VERSION:2.0
PRODID:concerti//https://www.concerti.de
CALSCALE:GREGORIAN
BEGIN:VTIMEZONE
TZID:Europe/Berlin
X-LIC-LOCATION:Europe/Berlin
BEGIN:DAYLIGHT
TZOFFSETFROM:+0100
TZOFFSETTO:+0200
TZNAME:CEST
DTSTART:19700329T020000
RRULE:FREQ=YEARLY;BYMONTH=3;BYDAY=-1SU
END:DAYLIGHT
BEGIN:STANDARD
TZOFFSETFROM:+0200
TZOFFSETTO:+0100
TZNAME:CET
DTSTART:19701025T030000
RRULE:FREQ=YEARLY;BYMONTH=10;BYDAY=-1SU
END:STANDARD
END:VTIMEZONE
BEGIN:VEVENT
UID:f0a58600a70df997160976fe839434a1
SUMMARY:Janine Jansen (Violine), Camerata Salzburg, Gregory Ahss (Violine &amp; Leitung)
URL:https://www.concerti.de/termine/janine-jansen-violine-camerata-salzburg-gregory-ahss-violine-leitung-philharmonie-essen-773529/
DTSTART;TZID=Europe/Berlin:20260430T200000
DTEND;TZID=Europe/Berlin:20260430T220000
DESCRIPTION:Interpreten: Janine Jansen (Violine)\, Camerata Salzburg\, Gregory Ahss (Violine & Leitung) \nProgramm: Dubugnon: Piccolo concerto grosso op. 87\, Geminiani: Concerto grosso D-Dur op. 5/12 „La Folia“\, Rota: Concerto per archi\, Vivaldi: Die vier Jahreszeiten op. 8 \nhttps://www.concerti.de/termine/janine-jansen-violine-camerata-salzburg-gregory-ahss-violine-leitung-philharmonie-essen-773529/
LOCATION:Philharmonie Essen\, Huyssenallee 53\, 45128 Essen
END:VEVENT
END:VCALENDAR