BEGIN:VCALENDAR
VERSION:2.0
PRODID:concerti//https://www.concerti.de
CALSCALE:GREGORIAN
BEGIN:VTIMEZONE
TZID:Europe/Berlin
X-LIC-LOCATION:Europe/Berlin
BEGIN:DAYLIGHT
TZOFFSETFROM:+0100
TZOFFSETTO:+0200
TZNAME:CEST
DTSTART:19700329T020000
RRULE:FREQ=YEARLY;BYMONTH=3;BYDAY=-1SU
END:DAYLIGHT
BEGIN:STANDARD
TZOFFSETFROM:+0200
TZOFFSETTO:+0100
TZNAME:CET
DTSTART:19701025T030000
RRULE:FREQ=YEARLY;BYMONTH=10;BYDAY=-1SU
END:STANDARD
END:VTIMEZONE
BEGIN:VEVENT
UID:a3f97c3bad4c66bed9e8e44904a09bcc
SUMMARY:Mozart: Sinfonie Nr. 41 C-Dur KV 551
URL:https://www.concerti.de/termine/mozart-sinfonie-nr-41-c-dur-kv-551-philharmonie-essen-773539/
DTSTART;TZID=Europe/Berlin:20260510T110000
DTEND;TZID=Europe/Berlin:20260510T130000
DESCRIPTION:Interpreten: Essener Philharmoniker\, Wolfram-Maria Märtig (Leitung)\, Götz Alsmann (Moderation) \nhttps://www.concerti.de/termine/mozart-sinfonie-nr-41-c-dur-kv-551-philharmonie-essen-773539/
LOCATION:Philharmonie Essen\, Huyssenallee 53\, 45128 Essen
END:VEVENT
END:VCALENDAR